BEGIN:VCALENDAR
VERSION:2.0
PRODID:-//Page Springs Cellars - ECPv6.15.20//NONSGML v1.0//EN
CALSCALE:GREGORIAN
METHOD:PUBLISH
X-WR-CALNAME:Page Springs Cellars
X-ORIGINAL-URL:https://pagespringscellars.com
X-WR-CALDESC:Events for Page Springs Cellars
REFRESH-INTERVAL;VALUE=DURATION:PT1H
X-Robots-Tag:noindex
X-PUBLISHED-TTL:PT1H
BEGIN:VTIMEZONE
TZID:UTC
BEGIN:STANDARD
TZOFFSETFROM:+0000
TZOFFSETTO:+0000
TZNAME:UTC
DTSTART:20240101T000000
END:STANDARD
END:VTIMEZONE
BEGIN:VEVENT
DTSTART;TZID=UTC:20251004T110000
DTEND;TZID=UTC:20251004T170000
DTSTAMP:20260419T234959
CREATED:20250930T165202Z
LAST-MODIFIED:20250930T165202Z
UID:22266-1759575600-1759597200@pagespringscellars.com
SUMMARY:Sierra Vista Art & Wine Festival
DESCRIPTION:Sample Arizona’s best vintages while you relax in the park. This festival coincides with the Huachuca Art Association’s Art in the Park so you can find your favorite artists and wines in one place! Bottle and glass sales are available at each vineyard booth.
URL:https://pagespringscellars.com/event/sierra-vista-art-wine-festival/
LOCATION:Veterans Memorial Park\, 3105 E. Fry Boulevard\, Sierra Vista\, AZ\, 85635\, United States
CATEGORIES:Offsite Events
END:VEVENT
BEGIN:VEVENT
DTSTART;TZID=UTC:20251018T110000
DTEND;TZID=UTC:20251018T170000
DTSTAMP:20260419T234959
CREATED:20251007T204355Z
LAST-MODIFIED:20251007T204355Z
UID:22284-1760785200-1760806800@pagespringscellars.com
SUMMARY:Octobearfest at Bearizona
DESCRIPTION: Okto•BEAR•Fest is back! Join us at Bearizona for a wild day of craft beer\, wine & mead tastings\, live music\, games\, animal encounters\, raffles\, and more!\n VIPs get in early (11AM) with 30 samples to sip and savor. General Admission strolls in at noon with 25 samples to enjoy. Designated Drivers drink for free (non-alcoholic\, of course).\n Park admission sold separately\, so don’t forget to grab both tickets before the fun begins!
URL:https://pagespringscellars.com/event/octobearfest-at-bearizona/
LOCATION:Bearizona\, 1500 E Route 66\, Williams\, AZ\, 86046\, United States
CATEGORIES:Offsite Events
END:VEVENT
BEGIN:VEVENT
DTSTART;TZID=UTC:20251018T110000
DTEND;TZID=UTC:20251019T170000
DTSTAMP:20260419T234959
CREATED:20251007T204001Z
LAST-MODIFIED:20251007T204001Z
UID:22280-1760785200-1760893200@pagespringscellars.com
SUMMARY:Willcox Wine Festival
DESCRIPTION:The Willcox Wine Country Festival is back and better than ever\, promising a delightful weekend filled with exceptional wines\, live music\, and unforgettable experiences. Set against the picturesque backdrop of the stunning Willcox wine region\, this festival is a must-attend event for wine enthusiasts and connoisseurs alike. Mark your calendars for October 18 & 19! \nOctober 18 Festival 11 am till 5 Pm | Wine Benefit Dinner 6:30 pm till 9:30 pm \nOctober 19 Festival 11 am till 5 Pm
URL:https://pagespringscellars.com/event/willcox-wine-festival/
LOCATION:Railroad Park\, 157 N. Railroad Ave\, Willcox\, AZ\, 85643\, United States
CATEGORIES:Offsite Events
END:VEVENT
END:VCALENDAR