BEGIN:VCALENDAR
VERSION:2.0
PRODID:-//Page Springs Cellars - ECPv6.15.20//NONSGML v1.0//EN
CALSCALE:GREGORIAN
METHOD:PUBLISH
X-WR-CALNAME:Page Springs Cellars
X-ORIGINAL-URL:https://pagespringscellars.com
X-WR-CALDESC:Events for Page Springs Cellars
REFRESH-INTERVAL;VALUE=DURATION:PT1H
X-Robots-Tag:noindex
X-PUBLISHED-TTL:PT1H
BEGIN:VTIMEZONE
TZID:UTC
BEGIN:STANDARD
TZOFFSETFROM:+0000
TZOFFSETTO:+0000
TZNAME:UTC
DTSTART:20240101T000000
END:STANDARD
END:VTIMEZONE
BEGIN:VEVENT
DTSTART;TZID=UTC:20251231T180000
DTEND;TZID=UTC:20251231T210000
DTSTAMP:20260419T201035
CREATED:20251217T213655Z
LAST-MODIFIED:20251217T213655Z
UID:22369-1767204000-1767214800@pagespringscellars.com
SUMMARY:Persepshen NYE Wine Dinner
DESCRIPTION:Join our Founder and Winegrower\, Eric Glomski for a 6-course dinner with pairings. More information and tickets can be found at https://www.persepshenarizona.com/events/p/new-years-eve.
URL:https://pagespringscellars.com/event/persepshen-nye-wine-dinner/
LOCATION:Persepshen\, 4700 N. Central Ave\, Phoenix\, 85012\, United States
CATEGORIES:Offsite Events
END:VEVENT
END:VCALENDAR