BEGIN:VCALENDAR
VERSION:2.0
PRODID:-//Page Springs Cellars - ECPv6.15.20//NONSGML v1.0//EN
CALSCALE:GREGORIAN
METHOD:PUBLISH
X-WR-CALNAME:Page Springs Cellars
X-ORIGINAL-URL:https://pagespringscellars.com
X-WR-CALDESC:Events for Page Springs Cellars
REFRESH-INTERVAL;VALUE=DURATION:PT1H
X-Robots-Tag:noindex
X-PUBLISHED-TTL:PT1H
BEGIN:VTIMEZONE
TZID:UTC
BEGIN:STANDARD
TZOFFSETFROM:+0000
TZOFFSETTO:+0000
TZNAME:UTC
DTSTART:20240101T000000
END:STANDARD
END:VTIMEZONE
BEGIN:VEVENT
DTSTART;TZID=UTC:20251120T180000
DTEND;TZID=UTC:20251120T200000
DTSTAMP:20260419T205107
CREATED:20250930T080939Z
LAST-MODIFIED:20251007T220844Z
UID:22205-1763661600-1763668800@pagespringscellars.com
SUMMARY:Sip & Crave
DESCRIPTION:Join our Assistant Winemaker in our Member’s Lounge for an intimate evening of delicious food and wine. Limited tickets available.\n\nDate: Thursday\, November 20\, 2025\nTime: 6 pm – 8 pm\nCost: $69/person. No discounts apply\nHost: Bree Nation\n\nMenu Coming Soon
URL:https://pagespringscellars.com/event/sip-crave/
LOCATION:Page Springs Cellars\, 1500 N Page Springs Rd\, Cornville\, AZ\, 86325-6008\, United States
CATEGORIES:Public Events
END:VEVENT
BEGIN:VEVENT
DTSTART;VALUE=DATE:20251019
DTEND;VALUE=DATE:20251021
DTSTAMP:20260419T205107
CREATED:20251014T230911Z
LAST-MODIFIED:20251014T231131Z
UID:22308-1760832000-1761004799@pagespringscellars.com
SUMMARY:2025 Vin de Filles Benefit Dinner
DESCRIPTION:Sunday\, October 19 & Monday\, October 20\n\nSunday is sold out. Email Gayle at gayle@pagespringscellars.com to join the waitlist.\n\nDoors open at 4:30 pm\n\nJoin us for an unforgettable evening on the vineyard deck at Page Springs Cellars.\n\nEnjoy a 5-course pairing menu plus 2 exclusive liquid courses as you become the very first to taste our 2024 Vin de Filles vintage. Meet the talented women behind the wine while taking in the stunning vineyard views.\n\nA curated silent auction will showcase beverages and products crafted by women with all proceeds supporting The Verde Valley Sanctuary. Come sip\, savor and support!
URL:https://pagespringscellars.com/event/2025-vin-de-filles-benefit-dinner/
LOCATION:Page Springs Cellars\, 1500 N Page Springs Rd\, Cornville\, AZ\, 86325-6008\, United States
CATEGORIES:Public Events
END:VEVENT
BEGIN:VEVENT
DTSTART;TZID=UTC:20251018T110000
DTEND;TZID=UTC:20251019T170000
DTSTAMP:20260419T205107
CREATED:20251007T204001Z
LAST-MODIFIED:20251007T204001Z
UID:22280-1760785200-1760893200@pagespringscellars.com
SUMMARY:Willcox Wine Festival
DESCRIPTION:The Willcox Wine Country Festival is back and better than ever\, promising a delightful weekend filled with exceptional wines\, live music\, and unforgettable experiences. Set against the picturesque backdrop of the stunning Willcox wine region\, this festival is a must-attend event for wine enthusiasts and connoisseurs alike. Mark your calendars for October 18 & 19! \nOctober 18 Festival 11 am till 5 Pm | Wine Benefit Dinner 6:30 pm till 9:30 pm \nOctober 19 Festival 11 am till 5 Pm
URL:https://pagespringscellars.com/event/willcox-wine-festival/
LOCATION:Railroad Park\, 157 N. Railroad Ave\, Willcox\, AZ\, 85643\, United States
CATEGORIES:Offsite Events
END:VEVENT
BEGIN:VEVENT
DTSTART;TZID=UTC:20251018T110000
DTEND;TZID=UTC:20251018T170000
DTSTAMP:20260419T205107
CREATED:20251007T204355Z
LAST-MODIFIED:20251007T204355Z
UID:22284-1760785200-1760806800@pagespringscellars.com
SUMMARY:Octobearfest at Bearizona
DESCRIPTION: Okto•BEAR•Fest is back! Join us at Bearizona for a wild day of craft beer\, wine & mead tastings\, live music\, games\, animal encounters\, raffles\, and more!\n VIPs get in early (11AM) with 30 samples to sip and savor. General Admission strolls in at noon with 25 samples to enjoy. Designated Drivers drink for free (non-alcoholic\, of course).\n Park admission sold separately\, so don’t forget to grab both tickets before the fun begins!
URL:https://pagespringscellars.com/event/octobearfest-at-bearizona/
LOCATION:Bearizona\, 1500 E Route 66\, Williams\, AZ\, 86046\, United States
CATEGORIES:Offsite Events
END:VEVENT
BEGIN:VEVENT
DTSTART;TZID=UTC:20251011T160000
DTEND;TZID=UTC:20251011T173000
DTSTAMP:20260419T205107
CREATED:20250930T085816Z
LAST-MODIFIED:20251007T215655Z
UID:22226-1760198400-1760203800@pagespringscellars.com
SUMMARY:Tap the Cask 2025 Saturday 4 pm
DESCRIPTION:Celebrate the harvest season with exclusive barrel tastings\, offering a firsthand look at our 2025 vintage. Hear stories of this year’s harvest and take advantage of special pricing on the yet-to-be-bottled wines you taste. \nWhen: Saturday\, Oct. 11 \nTime:4 pm – 5:30 pm\n\nLocation: Cellar (and outdoor areas)\n\nHost: Eric Glomski\n\nTickets: $29 per person\nMember discounts apply.
URL:https://pagespringscellars.com/event/tap-the-cask-2025-saturday-4pm/
LOCATION:Page Springs Cellars\, 1500 N Page Springs Rd\, Cornville\, AZ\, 86325-6008\, United States
CATEGORIES:Club Events
END:VEVENT
BEGIN:VEVENT
DTSTART;TZID=UTC:20251011T133000
DTEND;TZID=UTC:20251011T150000
DTSTAMP:20260419T205107
CREATED:20250930T084958Z
LAST-MODIFIED:20251007T220325Z
UID:22223-1760189400-1760194800@pagespringscellars.com
SUMMARY:Tap the Cask 2025 Saturday 1:30 pm
DESCRIPTION:Celebrate the harvest season with exclusive barrel tastings\, offering a firsthand look at our 2025 vintage. Hear stories of this year’s harvest and take advantage of special pricing on the yet-to-be-bottled wines you taste. \nWhen: Saturday\, Oct. 11 \nTime: 1:30 pm – 3 pm\n\nLocation: Cellar (and outdoor areas)\n\nHost: Eric Glomski\n\nTickets: $29 per person\nMember discounts apply.
URL:https://pagespringscellars.com/event/tap-the-cask-2025-saturday-130pm/
LOCATION:Page Springs Cellars\, 1500 N Page Springs Rd\, Cornville\, AZ\, 86325-6008\, United States
CATEGORIES:Club Events
END:VEVENT
BEGIN:VEVENT
DTSTART;TZID=UTC:20251011T110000
DTEND;TZID=UTC:20251018T200000
DTSTAMP:20260419T205107
CREATED:20251007T203322Z
LAST-MODIFIED:20251007T203322Z
UID:22276-1760180400-1760817600@pagespringscellars.com
SUMMARY:Toast the Trails
DESCRIPTION:From October 11 – 18\, we are donating $1 from every Wine Tasting Flight sold to the Red Rock Trail Fund. \nFrom the organizer: \nFrom Oct 11-18\, you can enjoy some of the area’s finest food and beverages\, while you help raise much needed funds to care for the Sedona Red Rock Trails. The community-minded businesses listed below are each offering special promotions that included a generous donation toward maintenance of the trails. \nAll YOU do to participate is simply drop in\, order the featured Trail Fund Special – and ENJOY!
URL:https://pagespringscellars.com/event/toast-the-trails/
LOCATION:AZ
CATEGORIES:Public Events
END:VEVENT
BEGIN:VEVENT
DTSTART;TZID=UTC:20251011T110000
DTEND;TZID=UTC:20251011T123000
DTSTAMP:20260419T205107
CREATED:20250930T084107Z
LAST-MODIFIED:20251007T211242Z
UID:22221-1760180400-1760185800@pagespringscellars.com
SUMMARY:Tap the Cask 2025 Saturday 11 am
DESCRIPTION:Celebrate the harvest season with exclusive barrel tastings\, offering a firsthand look at our 2025 vintage. Hear stories of this year’s harvest and take advantage of special pricing on the yet-to-be-bottled wines you taste. \nWhen: Saturday\, Oct. 11 \nTime: 11 am – 12:30 pm\n\nLocation: Cellar (and outdoor areas)\n\nHost: Eric Glomski\n\nTickets: $29 per person\nMember discounts apply.
URL:https://pagespringscellars.com/event/tap-the-cask-2025-saturday-11am/
LOCATION:Page Springs Cellars\, 1500 N Page Springs Rd\, Cornville\, AZ\, 86325-6008\, United States
CATEGORIES:Club Events
END:VEVENT
BEGIN:VEVENT
DTSTART;TZID=UTC:20251005T110000
DTEND;TZID=UTC:20251005T200000
DTSTAMP:20260419T205107
CREATED:20250930T083858Z
LAST-MODIFIED:20250930T161514Z
UID:22219-1759662000-1759694400@pagespringscellars.com
SUMMARY:2025 Inner Circle FALL 11am
DESCRIPTION:This event will immerse you in the beauty of our Home Vineyard. What’s a better way to end our Harvest season than with a Vineyard Tour & grilling out creekside?! \nDate: October 5\, 2025 \nTimes: 11am \nHost: Eric Glomski \nNo cost to Inner Circle members.
URL:https://pagespringscellars.com/event/2025-inner-circle-fall-11am/
LOCATION:AZ
CATEGORIES:Club Events
ATTACH;FMTTYPE=image/webp:https://pagespringscellars.com/wp-content/uploads/iceventproductimage1-1742267049902.webp
END:VEVENT
BEGIN:VEVENT
DTSTART;TZID=UTC:20251004T163000
DTEND;TZID=UTC:20251004T200000
DTSTAMP:20260419T205107
CREATED:20250930T083341Z
LAST-MODIFIED:20250930T083511Z
UID:22217-1759595400-1759608000@pagespringscellars.com
SUMMARY:2025 Inner Circle FALL 4:30 pm
DESCRIPTION:This event will immerse you in the beauty of our Home Vineyard. What’s a better way to end our Harvest season than with a Vineyard Tour & grilling out creekside?! \nDate: October 4\, 2025 \nTimes: 4:30 pm \nHost: Eric Glomski \nNo cost to Inner Circle members.
URL:https://pagespringscellars.com/event/2025-inner-circle-fall-430-pm/
LOCATION:AZ
CATEGORIES:Club Events
ATTACH;FMTTYPE=image/webp:https://pagespringscellars.com/wp-content/uploads/iceventproductimage1-1742267049902.webp
END:VEVENT
BEGIN:VEVENT
DTSTART;TZID=UTC:20251004T150000
DTEND;TZID=UTC:20251004T200000
DTSTAMP:20260419T205107
CREATED:20250930T082832Z
LAST-MODIFIED:20250930T082832Z
UID:22214-1759590000-1759608000@pagespringscellars.com
SUMMARY:2025 Inner Circle FALL 3pm
DESCRIPTION:This event will immerse you in the beauty of our Home Vineyard. What’s a better way to end our Harvest season than with a Vineyard Tour & grilling out creekside?! \nDate: October 4\, 2025 \nTimes: 3pm \nHost: Eric Glomski \nNo cost to Inner Circle members.
URL:https://pagespringscellars.com/event/2025-inner-circle-fall-3pm/
LOCATION:AZ
CATEGORIES:Club Events
ATTACH;FMTTYPE=image/webp:https://pagespringscellars.com/wp-content/uploads/iceventproductimage1-1742267049902.webp
END:VEVENT
BEGIN:VEVENT
DTSTART;TZID=UTC:20251004T110000
DTEND;TZID=UTC:20251004T170000
DTSTAMP:20260419T205107
CREATED:20250930T165202Z
LAST-MODIFIED:20250930T165202Z
UID:22266-1759575600-1759597200@pagespringscellars.com
SUMMARY:Sierra Vista Art & Wine Festival
DESCRIPTION:Sample Arizona’s best vintages while you relax in the park. This festival coincides with the Huachuca Art Association’s Art in the Park so you can find your favorite artists and wines in one place! Bottle and glass sales are available at each vineyard booth.
URL:https://pagespringscellars.com/event/sierra-vista-art-wine-festival/
LOCATION:Veterans Memorial Park\, 3105 E. Fry Boulevard\, Sierra Vista\, AZ\, 85635\, United States
CATEGORIES:Offsite Events
END:VEVENT
END:VCALENDAR