BEGIN:VCALENDAR
VERSION:2.0
PRODID:-//Page Springs Cellars - ECPv6.15.20//NONSGML v1.0//EN
CALSCALE:GREGORIAN
METHOD:PUBLISH
X-ORIGINAL-URL:https://pagespringscellars.com
X-WR-CALDESC:Events for Page Springs Cellars
REFRESH-INTERVAL;VALUE=DURATION:PT1H
X-Robots-Tag:noindex
X-PUBLISHED-TTL:PT1H
BEGIN:VTIMEZONE
TZID:UTC
BEGIN:STANDARD
TZOFFSETFROM:+0000
TZOFFSETTO:+0000
TZNAME:UTC
DTSTART:20250101T000000
END:STANDARD
END:VTIMEZONE
BEGIN:VEVENT
DTSTART;VALUE=DATE:20260801
DTEND;VALUE=DATE:20260802
DTSTAMP:20260419T172510
CREATED:20260130T002831Z
LAST-MODIFIED:20260130T002831Z
UID:22419-1785542400-1785628799@pagespringscellars.com
SUMMARY:2026 The Grand Tasting
DESCRIPTION:This product is only available for select customers. Please log in to purchase. \n\n\n\n\nExplore a curated selection of over 50 PSC wines in the intimate setting of our cellar. Between tastings\, enjoy small palate cleansers to enhance your experience. This is a unique opportunity to discover new favorites and celebrate the art of wine in an unforgettable atmosphere. \nWhen: Saturday\, Aug. 1\, 2026 \nSession Times:\n11 am – 12:30 pm\n1:30 pm – 3 pm\n4 pm – 5:30 pm\n\nLocation: Cellar\n\nTickets: $29 per person\nMember discounts apply.\n\n\n\n\nGet Tickets Now!
URL:https://pagespringscellars.com/event/2026-the-grand-tasting-2/
LOCATION:AZ
END:VEVENT
BEGIN:VEVENT
DTSTART;VALUE=DATE:20260802
DTEND;VALUE=DATE:20260803
DTSTAMP:20260419T172510
CREATED:20260130T002733Z
LAST-MODIFIED:20260130T002733Z
UID:22417-1785628800-1785715199@pagespringscellars.com
SUMMARY:2026 The Grand Tasting
DESCRIPTION:This product is only available for select customers. Please log in to purchase. \n\n\n\n\nExplore a curated selection of over 50 PSC wines in the intimate setting of our cellar. Between tastings\, enjoy small palate cleansers to enhance your experience. This is a unique opportunity to discover new favorites and celebrate the art of wine in an unforgettable atmosphere. \nWhen: Sunday\, Aug. 2 \nSession Times:\n11 am – 12:30 pm\n1:30 pm – 3 pm\n4 pm – 5:30 pm\n\nLocation: Cellar\n\nTickets: $29 per person\nMember discounts apply.\n\n\n\n\nGet Tickets Now!
URL:https://pagespringscellars.com/event/2026-the-grand-tasting/
LOCATION:AZ
END:VEVENT
BEGIN:VEVENT
DTSTART;VALUE=DATE:20261017
DTEND;VALUE=DATE:20261018
DTSTAMP:20260419T172510
CREATED:20260130T002446Z
LAST-MODIFIED:20260130T002446Z
UID:22413-1792195200-1792281599@pagespringscellars.com
SUMMARY:2026 Tap the Cask
DESCRIPTION:This product is only available for select customers. Please log in to purchase. \n\n\n\n\nCelebrate the harvest season with exclusive barrel tastings\, offering a firsthand look at our 2025 vintage. Hear stories of this year’s harvest and take advantage of special pricing on the yet-to-be-bottled wines you taste. \nWhen: Saturday\, Oct. 17 \nSession Times:\n11 am – 12:30 pm\n1:30 pm – 3 pm\n4 pm – 5:30 pm\n\nLocation: Cellar (and outdoor areas)\n\nTickets: $29 per person\nMember discounts apply.\n\nGet Tickets Now
URL:https://pagespringscellars.com/event/2026-tap-the-cask/
LOCATION:AZ
END:VEVENT
BEGIN:VEVENT
DTSTART;VALUE=DATE:20261018
DTEND;VALUE=DATE:20261019
DTSTAMP:20260419T172510
CREATED:20260130T002619Z
LAST-MODIFIED:20260130T002619Z
UID:22415-1792281600-1792367999@pagespringscellars.com
SUMMARY:2026 Tap the Cask
DESCRIPTION:This product is only available for select customers. Please log in to purchase. \n\n\n\n\nCelebrate the harvest season with exclusive barrel tastings\, offering a firsthand look at our 2025 vintage. Hear stories of this year’s harvest and take advantage of special pricing on the yet-to-be-bottled wines you taste. \nWhen: Sunday\, Oct. 18 \nSession Times:\n11 am – 12:30 pm\n1:30 pm – 3 pm\n4 pm – 5:30 pm\n\nLocation: Cellar (and outdoor areas)\n\nTickets: $29 per person\nMember discounts apply.\n\n\n\n\nGet Tickets Now
URL:https://pagespringscellars.com/event/2026-tap-the-cask-2/
LOCATION:AZ
END:VEVENT
BEGIN:VEVENT
DTSTART;VALUE=DATE:20261205
DTEND;VALUE=DATE:20261206
DTSTAMP:20260419T172510
CREATED:20260130T002953Z
LAST-MODIFIED:20260130T002953Z
UID:22421-1796428800-1796515199@pagespringscellars.com
SUMMARY:2026 Wine & Cheese Soiree
DESCRIPTION:This product is only available for select customers. Please log in to purchase. \n\n\n\n\nIndulge in a curated selection of artisan cheeses\, local fresh baked bread\, and local olive oils\, each expertly paired with PSC wines. Discover how these flavors come together to create unforgettable combinations. \nWhen: Saturday\, Dec. 5\, 2026 \nSession Times:\n11 am – 12:30 pm\n1:30 pm – 3 pm\n4 pm – 5:30 pm\n\nTickets: $29 per person\nMember discounts apply.\n\n\n\n\nGet Tickets Now!
URL:https://pagespringscellars.com/event/2026-wine-cheese-soiree/
LOCATION:AZ
END:VEVENT
END:VCALENDAR