BEGIN:VCALENDAR
VERSION:2.0
PRODID:-//Page Springs Cellars - ECPv6.15.20//NONSGML v1.0//EN
CALSCALE:GREGORIAN
METHOD:PUBLISH
X-ORIGINAL-URL:https://pagespringscellars.com
X-WR-CALDESC:Events for Page Springs Cellars
REFRESH-INTERVAL;VALUE=DURATION:PT1H
X-Robots-Tag:noindex
X-PUBLISHED-TTL:PT1H
BEGIN:VTIMEZONE
TZID:UTC
BEGIN:STANDARD
TZOFFSETFROM:+0000
TZOFFSETTO:+0000
TZNAME:UTC
DTSTART:20250101T000000
END:STANDARD
END:VTIMEZONE
BEGIN:VEVENT
DTSTART;TZID=UTC:20260115T180000
DTEND;TZID=UTC:20260115T200000
DTSTAMP:20260419T154602
CREATED:20251217T215609Z
LAST-MODIFIED:20251217T215609Z
UID:22382-1768500000-1768507200@pagespringscellars.com
SUMMARY:Sip & Crave
DESCRIPTION:Join our Assistant Winemaker in our Member’s Lounge for an intimate evening of delicious food and wine. Limited tickets available.\n\nDate: Thursday\, January 15\, 2026\nTime: 6 pm – 8 pm\nCost: $69/person. No discounts apply\nHost: Bree Nation
URL:https://pagespringscellars.com/event/sip-crave-2/
LOCATION:Page Springs Cellars\, 1500 N Page Springs Rd\, Cornville\, AZ\, 86325-6008\, United States
CATEGORIES:Public Events
END:VEVENT
BEGIN:VEVENT
DTSTART;VALUE=DATE:20260124
DTEND;VALUE=DATE:20260126
DTSTAMP:20260419T154602
CREATED:20251217T214635Z
LAST-MODIFIED:20251217T214635Z
UID:22375-1769212800-1769385599@pagespringscellars.com
SUMMARY:Arizona Wine Festival
DESCRIPTION:The Arizona Wine Festival @ Heritage Square \n \n 
URL:https://pagespringscellars.com/event/arizona-wine-festival/
LOCATION:Heritage Square\, 113 N 6th St.\, Phoenix\, AZ\, 85004\, United States
END:VEVENT
BEGIN:VEVENT
DTSTART;TZID=UTC:20260124T103000
DTEND;TZID=UTC:20260124T150000
DTSTAMP:20260419T154602
CREATED:20251217T214330Z
LAST-MODIFIED:20251217T214330Z
UID:22372-1769250600-1769266800@pagespringscellars.com
SUMMARY:Savor Culinary Festival
DESCRIPTION:SAVOR Heritage Foods Festival
URL:https://pagespringscellars.com/event/savor-culinary-festival/
LOCATION:Tucson Botanical Gardens\, 2150 N. Alvernon Way\, Tucson\, AZ\, 85712\, United States
END:VEVENT
BEGIN:VEVENT
DTSTART;TZID=UTC:20260131T100000
DTEND;TZID=UTC:20260201T170000
DTSTAMP:20260419T154602
CREATED:20251217T215022Z
LAST-MODIFIED:20260130T003132Z
UID:22378-1769853600-1769965200@pagespringscellars.com
SUMMARY:Kierland Fine Art & Wine Festival
DESCRIPTION:Kierland Fine Art & Wine Festival \n \n 
URL:https://pagespringscellars.com/event/kierland-fine-art-wine-festival/
LOCATION:Kierland Commons\, 15205 N. Kierland Blvd\, Scottsdale\, AZ\, 85254\, United States
END:VEVENT
BEGIN:VEVENT
DTSTART;TZID=UTC:20260131T110000
DTEND;TZID=UTC:20260131T130000
DTSTAMP:20260419T154602
CREATED:20250930T095950Z
LAST-MODIFIED:20250930T162003Z
UID:22235-1769857200-1769864400@pagespringscellars.com
SUMMARY:2026 Gruel and Grog Saturday
DESCRIPTION:Join us for a cozy day featuring hearty stews\, fresh-baked bread\, and perfectly paired PSC wines. Enjoy family-style seating in the welcoming ambiance of our cellar\, creating the perfect setting for a winter gathering filled with comfort\, flavor\, and good company. \nWhen: Saturday\, January 31st & February 1st\, 2026\nWhere: The Cellar at Page Springs Cellars \nAvailable Times:\nSaturday 11 am – 1 pm\, 2 pm – 4 pm\, 5 pm – 7 pm \nSunday 11 am – 1 pm\, 2 pm – 4 pm \nMember discounts apply to tickets.
URL:https://pagespringscellars.com/event/2026-gruel-and-grog-saturday/
LOCATION:AZ
CATEGORIES:Club Events
ATTACH;FMTTYPE=image/webp:https://pagespringscellars.com/wp-content/uploads/productimage-gg-17453526098832.webp
END:VEVENT
END:VCALENDAR