BEGIN:VCALENDAR
VERSION:2.0
PRODID:-//Page Springs Cellars - ECPv6.15.20//NONSGML v1.0//EN
CALSCALE:GREGORIAN
METHOD:PUBLISH
X-ORIGINAL-URL:https://pagespringscellars.com
X-WR-CALDESC:Events for Page Springs Cellars
REFRESH-INTERVAL;VALUE=DURATION:PT1H
X-Robots-Tag:noindex
X-PUBLISHED-TTL:PT1H
BEGIN:VTIMEZONE
TZID:UTC
BEGIN:STANDARD
TZOFFSETFROM:+0000
TZOFFSETTO:+0000
TZNAME:UTC
DTSTART:20250101T000000
END:STANDARD
END:VTIMEZONE
BEGIN:VEVENT
DTSTART;TZID=UTC:20260308T120000
DTEND;TZID=UTC:20260308T150000
DTSTAMP:20260419T124431
CREATED:20260223T184352Z
LAST-MODIFIED:20260223T184352Z
UID:22450-1772971200-1772982000@pagespringscellars.com
SUMMARY:Corkscrew Gallery Grand Opening
DESCRIPTION:Page Springs Cellars announces the grand opening of The Wineleopard Corkscrew Gallery\, one of the very few dedicated corkscrew galleries in the United States — and a rare cultural addition to Arizona’s wine country. \nOpening Celebration Includes: \n• Guided exploration of the corkscrew collection with the founding partners\n• A curated\, educational wine tasting experience\n• Palate cleansers to complement the tasting \nRobert Leopardi shares\, \n“I’ve been collecting antiques for more than 40 years. It began with American Arts & Crafts pieces\, but in the process of searching for those objects\, I started discovering old corkscrews — and that’s where this journey truly began. This gallery traces the development of the corkscrew from as early as 1760 through the mid-20th century. The collection is organized both by type and by geography to give visitors a clear picture of the evolution of this essential and often overlooked tool.”
URL:https://pagespringscellars.com/event/corkscrew-gallery-grand-opening/
LOCATION:Page Springs Cellars\, 1500 N Page Springs Rd\, Cornville\, AZ\, 86325-6008\, United States
CATEGORIES:Public Events
ATTACH;FMTTYPE=image/jpeg:https://pagespringscellars.com/wp-content/uploads/Wineleopard-PSC-Corkscrew-Gallery.jpg
END:VEVENT
BEGIN:VEVENT
DTSTART;VALUE=DATE:20260314
DTEND;VALUE=DATE:20260316
DTSTAMP:20260419T124431
CREATED:20260130T003546Z
LAST-MODIFIED:20260130T003546Z
UID:22425-1773446400-1773619199@pagespringscellars.com
SUMMARY:Tempe Festival of the Arts
DESCRIPTION:Tempe Festival of the Arts has a 50+ year history in Tempe and takes place in early December and early to mid-March each year.  It is one of the oldest festivals in the Southwest.   The festival has grown to become a Tempe point of pride and a favorite of our residents and visitors.   Guests enjoy artists from around the country\, local music\, a Kids Block and many great food options – all located on the streets of historic Mill Avenue. \nDate: March 14-15\, 2026\nTime: Sat 10AM – 5:30PM\, Sun 10AM – 4:30PM\nLocation: Downtown Tempe\nWebsite: https://tempefestivalofthearts.com/\nTickets: Festival is free admission. Wine Tasting tickets start at $23.18
URL:https://pagespringscellars.com/event/tempe-festival-of-the-arts/
LOCATION:AZ
END:VEVENT
BEGIN:VEVENT
DTSTART;VALUE=DATE:20260321
DTEND;VALUE=DATE:20260323
DTSTAMP:20260419T124431
CREATED:20260130T003632Z
LAST-MODIFIED:20260130T003632Z
UID:22427-1774051200-1774223999@pagespringscellars.com
SUMMARY:Pecan & Wine Festival 
DESCRIPTION:Mark your calendars! The most delicious weekend of the year is just around the corner! The Camp Verde Pecan & Wine Festival is returning to Downtown Camp Verde (75 E Hollamon St) on March 15th and 16th\, 2025\, from 11 am to 7 pm on Saturday and 11 am to 4 pm on Sunday\, promising a delightful blend of Arizona’s finest wines\, toe-tapping live music\, unique local vendors\, and enough pecans to make a squirrel jealous. And the best part? General admission is FREE!\n\nDate: March 21-22\, 2026\nTime: Sat 11AM-7PM\, Sun 11AM-4PM\nLocation: Downtown Camp Verde\, AZ\nWebsite: https://verdevalleywine.org/pecan-wine-festival-is-back-and-nutty-er-than-ever/\nTickets: Festival is free admission. Wine Tasting tickets $20 presale\, $25 at the door
URL:https://pagespringscellars.com/event/pecan-wine-festival/
LOCATION:AZ
END:VEVENT
BEGIN:VEVENT
DTSTART;TZID=UTC:20260328T110000
DTEND;TZID=UTC:20260328T190000
DTSTAMP:20260419T124431
CREATED:20250930T104156Z
LAST-MODIFIED:20250930T162116Z
UID:22240-1774695600-1774724400@pagespringscellars.com
SUMMARY:2026 Barrels and Burgers Saturday
DESCRIPTION:Join us for a delicious and exclusive experience at our Barrels & Burgers event! Enjoy freshly grilled\, grass-fed burgers\, made right on-site and cooked to order. Each burger pairs perfectly with exclusive PSC barrel samples—offering you a rare taste straight from our cellar. \nSession Times:\n11 am – 1 pm\n2 pm – 4 pm\n5 pm – 7 pm\n\nLocation: Vineyard Deck\n\nHost: Eric Glomski\n\nTickets: $45 per person\nMember discounts apply.
URL:https://pagespringscellars.com/event/2026-barrels-and-burgers-saturday/
LOCATION:AZ
CATEGORIES:Club Events
ATTACH;FMTTYPE=image/webp:https://pagespringscellars.com/wp-content/uploads/barrels-and-burgers-2025-1746035982208.webp
END:VEVENT
BEGIN:VEVENT
DTSTART;TZID=UTC:20260328T120000
DTEND;TZID=UTC:20260328T200000
DTSTAMP:20260419T124431
CREATED:20260130T003836Z
LAST-MODIFIED:20260130T003836Z
UID:22429-1774699200-1774728000@pagespringscellars.com
SUMMARY:Rose Disco 
DESCRIPTION:Sip through a lineup of rosés that hit just right. From crisp Provence classics to bold new-world blends\, each one curated to keep the vibe flowing. Pair it with next-level bites from your city’s top chefs\, crafted to match every pour. \nShow up in your best pink fit\, link your crew\, and lose track of time between the music\, the sunshine\, and the rosé. Every corner’s a photo op. Golden-hour glow\, glass in hand\, vibes immaculate. \nDate: March 28\, 2026\nTime: Sat 12PM\nLocation: Tempe Beach Park\, 80 W Rio Salado PKWY\, Tempe\, AZ 85281\nWebsite: https://www.rosedisco.com/tempe\nTickets: Tickets start at $32
URL:https://pagespringscellars.com/event/rose-disco/
LOCATION:AZ
END:VEVENT
BEGIN:VEVENT
DTSTART;TZID=UTC:20260329T110000
DTEND;TZID=UTC:20260329T190000
DTSTAMP:20260419T124431
CREATED:20250930T104426Z
LAST-MODIFIED:20250930T162149Z
UID:22243-1774782000-1774810800@pagespringscellars.com
SUMMARY:2026 Barrels and Burgers Sunday
DESCRIPTION:Join us for a delicious and exclusive experience at our Barrels & Burgers event! Enjoy freshly grilled\, grass-fed burgers\, made right on-site and cooked to order. Each burger pairs perfectly with exclusive PSC barrel samples—offering you a rare taste straight from our cellar. \nSession Times:\n11 am – 1 pm\n2 pm – 4 pm\n5 pm – 7 pm\n\nLocation: Vineyard Deck\n\nHost: Eric Glomski\n\nTickets: $45 per person\nMember discounts apply.
URL:https://pagespringscellars.com/event/2026-barrels-and-burgers-sunday/
LOCATION:AZ
CATEGORIES:Club Events
ATTACH;FMTTYPE=image/webp:https://pagespringscellars.com/wp-content/uploads/barrels-and-burgers-2025-1746035982208.webp
END:VEVENT
END:VCALENDAR