BEGIN:VCALENDAR
VERSION:2.0
PRODID:-//Page Springs Cellars - ECPv6.15.20//NONSGML v1.0//EN
CALSCALE:GREGORIAN
METHOD:PUBLISH
X-WR-CALNAME:Page Springs Cellars
X-ORIGINAL-URL:https://pagespringscellars.com
X-WR-CALDESC:Events for Page Springs Cellars
REFRESH-INTERVAL;VALUE=DURATION:PT1H
X-Robots-Tag:noindex
X-PUBLISHED-TTL:PT1H
BEGIN:VTIMEZONE
TZID:UTC
BEGIN:STANDARD
TZOFFSETFROM:+0000
TZOFFSETTO:+0000
TZNAME:UTC
DTSTART:20250101T000000
END:STANDARD
END:VTIMEZONE
BEGIN:VEVENT
DTSTART;TZID=UTC:20260509T110000
DTEND;TZID=UTC:20260509T180000
DTSTAMP:20260419T122555
CREATED:20260130T004235Z
LAST-MODIFIED:20260130T004235Z
UID:22434-1778324400-1778349600@pagespringscellars.com
SUMMARY:Verde Valley Wine Festival 
DESCRIPTION:The festival will feature 20 local wineries\, beer and spirits\, along with culinary treats\, local artisans\, and other exhibitors \nOn Saturday\, May 10\, 2025\, from 11 a.m. – 6 p.m.\, the Verde Valley Wine Festival will return for its 7th year. Co-sponsored by the Verde Valley Wine Consortium and the City of Cottonwood\, wine enthusiasts from near and far will gather to celebrate the best of Arizona’s burgeoning wine industry. In addition to the 20 wineries in attendance\, festival-goers will also be able to enjoy local beer\, spirits\, food from local eateries\, shopping with artisans\, and live music – all within the charming atmosphere of Riverfront Park (located at 1284 E River Front Rd.\, Cottonwood\, AZ 86326). \n\nDate: May 9\, 2026\nTime: 11AM-6PM\nLocation: 1284 East Riverfront Park\, Cottonwood\, AZ 85326\nWebsite: https://verdevalleywinefestival.com/\nTickets: Wine Tasting tickets $20 presale\, $25 at the door
URL:https://pagespringscellars.com/event/verde-valley-wine-festival/
LOCATION:AZ
END:VEVENT
END:VCALENDAR